BEGIN:VCALENDAR
VERSION:2.0
PRODID:-//York Family Issues Roundtable - ECPv6.15.20//NONSGML v1.0//EN
CALSCALE:GREGORIAN
METHOD:PUBLISH
X-ORIGINAL-URL:https://www.familyissuesroundtable.org
X-WR-CALDESC:Events for York Family Issues Roundtable
REFRESH-INTERVAL;VALUE=DURATION:PT1H
X-Robots-Tag:noindex
X-PUBLISHED-TTL:PT1H
BEGIN:VTIMEZONE
TZID:America/New_York
BEGIN:DAYLIGHT
TZOFFSETFROM:-0500
TZOFFSETTO:-0400
TZNAME:EDT
DTSTART:20200308T070000
END:DAYLIGHT
BEGIN:STANDARD
TZOFFSETFROM:-0400
TZOFFSETTO:-0500
TZNAME:EST
DTSTART:20201101T060000
END:STANDARD
BEGIN:DAYLIGHT
TZOFFSETFROM:-0500
TZOFFSETTO:-0400
TZNAME:EDT
DTSTART:20210314T070000
END:DAYLIGHT
BEGIN:STANDARD
TZOFFSETFROM:-0400
TZOFFSETTO:-0500
TZNAME:EST
DTSTART:20211107T060000
END:STANDARD
BEGIN:DAYLIGHT
TZOFFSETFROM:-0500
TZOFFSETTO:-0400
TZNAME:EDT
DTSTART:20220313T070000
END:DAYLIGHT
BEGIN:STANDARD
TZOFFSETFROM:-0400
TZOFFSETTO:-0500
TZNAME:EST
DTSTART:20221106T060000
END:STANDARD
BEGIN:DAYLIGHT
TZOFFSETFROM:-0500
TZOFFSETTO:-0400
TZNAME:EDT
DTSTART:20230312T070000
END:DAYLIGHT
BEGIN:STANDARD
TZOFFSETFROM:-0400
TZOFFSETTO:-0500
TZNAME:EST
DTSTART:20231105T060000
END:STANDARD
BEGIN:DAYLIGHT
TZOFFSETFROM:-0500
TZOFFSETTO:-0400
TZNAME:EDT
DTSTART:20240310T070000
END:DAYLIGHT
BEGIN:STANDARD
TZOFFSETFROM:-0400
TZOFFSETTO:-0500
TZNAME:EST
DTSTART:20241103T060000
END:STANDARD
BEGIN:DAYLIGHT
TZOFFSETFROM:-0500
TZOFFSETTO:-0400
TZNAME:EDT
DTSTART:20250309T070000
END:DAYLIGHT
BEGIN:STANDARD
TZOFFSETFROM:-0400
TZOFFSETTO:-0500
TZNAME:EST
DTSTART:20251102T060000
END:STANDARD
BEGIN:DAYLIGHT
TZOFFSETFROM:-0500
TZOFFSETTO:-0400
TZNAME:EDT
DTSTART:20260308T070000
END:DAYLIGHT
BEGIN:STANDARD
TZOFFSETFROM:-0400
TZOFFSETTO:-0500
TZNAME:EST
DTSTART:20261101T060000
END:STANDARD
END:VTIMEZONE
BEGIN:VEVENT
DTSTART;TZID=America/New_York:20251106T083000
DTEND;TZID=America/New_York:20251106T103000
DTSTAMP:20260423T104833
CREATED:20250924T142703Z
LAST-MODIFIED:20251013T192658Z
UID:642-1762417800-1762425000@www.familyissuesroundtable.org
SUMMARY:Immigration Impact: Families and Communities – Navigating the 2025 Immigration Landscape in York County
DESCRIPTION:Join us for Immigration Impact: Families and Communities – Navigating the 2025 Immigration Landscape in York County. This event explores the current immigration landscape\, shares resources\, and highlights practical strategies to support immigrant families and strengthen our community. \nFeaturing panelists: \n\nKevin Schreiber\, President & CEO\, York County Economic Alliance\nRyan Brunsink\, Managing Attorney\, Pennsylvania Immigration Resource Center\nBailey Fisher\, Federal Affairs Specialist\, Pennsylvania Farm Bureau\nLiz Miller\, Development Director\, Pennsylvania Immigration Resource Center\nSara Gligora\, Workforce Development Specialist\, Pennsylvania Department of Agriculture\n\nDate: November 6th 8:30am to 10:30am \nLocation: The Salvation Army: 124 South Duke Street York PA 17401 \nCost: $20 \nDoors open at 8:00 \nHot breakfast will be provided \nDownload Flyer\nRegister below\, a payment link will be provided in your confirmation email. \n\n\n\n\n\nImmigration Impact 2025\n\n\n\n\n\n\n\n\n	First Name\n		*\n	\n	\n	\n	\n\n\n	Last Name\n		*\n	\n	\n	\n	\n\n\n	Email\n		*\n	\n	\n	\n	\n\n\n	Employer\n		\n	\n	\n	\n	\n\n\n	What question would you like our panel to address about immigration?\n		\n	\n	\n	\n	\n\n\n	Captcha\n		\n	\n	\n	\n	\n\n\n	\nSubmit\n\n\n\n\n\n	\n			\n			\n				If you are human\, leave this field blank.			\n			\n		\n		\n\n\n\nΔ
URL:https://www.familyissuesroundtable.org/event/immigration-impact-2025/
LOCATION:The Salvation Army\, 124 South Duke Street\, York\, PA\, 17401\, United States
END:VEVENT
BEGIN:VEVENT
DTSTART;TZID=America/New_York:20241025T083000
DTEND;TZID=America/New_York:20241025T110000
DTSTAMP:20260423T104833
CREATED:20241002T152210Z
LAST-MODIFIED:20241002T152210Z
UID:572-1729845000-1729854000@www.familyissuesroundtable.org
SUMMARY:Panel Discussion: Domestic Violence & Immigration Concerns
DESCRIPTION:Click Flyer for More Information \nEnglish Version of Flyer \nFlyer_FIR_September 2024- Resource Fair (8.5 × 11 in) (3) \n  \nSpanish Version of Flyer \nFlyer_FIR_September 2024- Resource Fair (8.5 × 11 in) (7) \n 
URL:https://www.familyissuesroundtable.org/event/panel-discussion-domestic-violence-immigration-concerns/
LOCATION:The Salvation Army\, 124 South Duke Street\, York\, PA\, 17401\, United States
END:VEVENT
BEGIN:VEVENT
DTSTART;TZID=America/New_York:20240618T113000
DTEND;TZID=America/New_York:20240618T140000
DTSTAMP:20260423T104833
CREATED:20240415T135007Z
LAST-MODIFIED:20240415T135007Z
UID:562-1718710200-1718719200@www.familyissuesroundtable.org
SUMMARY:Walking Taco Lunch
DESCRIPTION:Flyer_FIR_June 2024- Resource Fair (8.5 × 11 in) (3)
URL:https://www.familyissuesroundtable.org/event/walking-taco-lunch/
LOCATION:Stony Brook Elemntary School\, 250 Silver Spur Drive\, York\, PA\, 17402\, United States
END:VEVENT
BEGIN:VEVENT
DTSTART;TZID=America/New_York:20240412T090000
DTEND;TZID=America/New_York:20240412T110000
DTSTAMP:20260423T104833
CREATED:20240306T200133Z
LAST-MODIFIED:20240306T200133Z
UID:552-1712912400-1712919600@www.familyissuesroundtable.org
SUMMARY:Children Born Under the Influence
DESCRIPTION:Children Born Under the Influence
URL:https://www.familyissuesroundtable.org/event/children-born-under-the-influence/
LOCATION:The Salvation Army\, 124 South Duke Street\, York\, PA\, 17401\, United States
END:VEVENT
BEGIN:VEVENT
DTSTART;TZID=America/New_York:20231020T093000
DTEND;TZID=America/New_York:20231020T123000
DTSTAMP:20260423T104833
CREATED:20230816T201424Z
LAST-MODIFIED:20230816T201424Z
UID:543-1697794200-1697805000@www.familyissuesroundtable.org
SUMMARY:A Grandparents' Resource Fair
DESCRIPTION:
URL:https://www.familyissuesroundtable.org/event/a-grandparents-resource-fair/
LOCATION:Children Home of York\, 77 Shoe House Rd\, Yorkana\, PA\, 17406\, United States
END:VEVENT
BEGIN:VEVENT
DTSTART;TZID=America/New_York:20230324T090000
DTEND;TZID=America/New_York:20230324T120000
DTSTAMP:20260423T104833
CREATED:20230301T144400Z
LAST-MODIFIED:20230301T144400Z
UID:516-1679648400-1679659200@www.familyissuesroundtable.org
SUMMARY:Illicit Drug Use in the Adolescent Populations
DESCRIPTION:The training will focus on three learning objectives:\n· To identify current trends in illicit drug use in the\nadolescent/adult populations.\n· To recognize the difference with experimental use and\nescape use.\n· To identify hidden drug references in clothing \n 
URL:https://www.familyissuesroundtable.org/event/illicit-drug-use-in-the-adolescent-populations/
LOCATION:Children Home of York\, 77 Shoe House Rd\, Yorkana\, PA\, 17406\, United States
END:VEVENT
BEGIN:VEVENT
DTSTART;TZID=America/New_York:20220930T090000
DTEND;TZID=America/New_York:20220930T120000
DTSTAMP:20260423T104833
CREATED:20220425T133759Z
LAST-MODIFIED:20220425T133759Z
UID:469-1664528400-1664539200@www.familyissuesroundtable.org
SUMMARY:Chronicles of COVID-Assisting our Children with Coping with Anxiety\, Depression & Social Isolation
DESCRIPTION:More information coming soon.
URL:https://www.familyissuesroundtable.org/event/chronicles-of-covid-assisting-our-children-with-coping-with-anxiety-depression-social-isolation/
LOCATION:PA
END:VEVENT
BEGIN:VEVENT
DTSTART;TZID=America/New_York:20220930T083000
DTEND;TZID=America/New_York:20220930T100000
DTSTAMP:20260423T104833
CREATED:20220809T144456Z
LAST-MODIFIED:20220809T144456Z
UID:488-1664526600-1664532000@www.familyissuesroundtable.org
SUMMARY:The Chronicles of COVID - Assisting our Children with Coping with Anxiety\, Depression and Social Isolation
DESCRIPTION:9.30 Family Roundtable Flyer
URL:https://www.familyissuesroundtable.org/event/the-chronicles-of-covid-assisting-our-children-with-coping-with-anxiety-depression-and-social-isolation/
LOCATION:VIrtual
END:VEVENT
BEGIN:VEVENT
DTSTART;TZID=America/New_York:20220425T080000
DTEND;TZID=America/New_York:20220531T170000
DTSTAMP:20260423T104833
CREATED:20220425T133502Z
LAST-MODIFIED:20220425T133502Z
UID:467-1650873600-1654016400@www.familyissuesroundtable.org
SUMMARY:May is Mental Health Awareness Month
DESCRIPTION:
URL:https://www.familyissuesroundtable.org/event/may-is-mental-health-awareness-month/
LOCATION:PA
END:VEVENT
BEGIN:VEVENT
DTSTART;TZID=America/New_York:20211015T090000
DTEND;TZID=America/New_York:20211015T110000
DTSTAMP:20260423T104833
CREATED:20211001T120113Z
LAST-MODIFIED:20211012T141357Z
UID:391-1634288400-1634295600@www.familyissuesroundtable.org
SUMMARY:Stewards of Children Training\, 10/15/21\, 9-11am
DESCRIPTION:Click here to register for this free virtual event! \nRegistration due by Weds\, 10/13/21\, at https://bit.ly/3zWLYnL \nStewards of Children 10-15-21 (003)
URL:https://www.familyissuesroundtable.org/event/stewards-of-children-training-10-15-21-9-11am/
LOCATION:VIrtual
END:VEVENT
END:VCALENDAR